BEGIN:VCALENDAR
VERSION:2.0
PRODID:-//Leggere i dati HBenchmark per crescere//NONSGML v1.0//EN
NAME:Leggere i dati HBenchmark per crescere
X-WR-CALNAME:Leggere i dati HBenchmark per crescere
TIMEZONE-ID:Europe/Rome
X-WR-TIMEZONE:Europe/London
CALSCALE:GREGORIAN
BEGIN:VEVENT
SUMMARY:Leggere i dati HBenchmark per crescere
DTSTART:20260520T100000
DTEND:20260520T120000
DTSTAMP:20260423T113521
UID:29948_0
END:VEVENT
END:VCALENDAR